BEGIN:VCALENDAR
BEGIN:VEVENT
DESCRIPTION:\nMore Information: https://prod3.agileticketing.net/websales/pages/TicketSearchCriteria.aspx?evtInfo=777093~5d8d9dba-c87e-4c90-a955-489a474bdb56&\n\nThe Southern Circuit Tour of Independent Filmmakers connects US-based documentary filmmakers with communities throughout the South for screenings and conversations around important stories and the art of filmmaking. This special screening of MAMA BEARS will be followed by a post-film discussion with director/producer Daresha Kai.
DTSTART:20230323T230000Z
DTEND:20230324T003100Z
LOCATION:O Cinema South Beach, 1130 Washington Ave, Miami Beach, FL, 33139
SUMMARY:Mama Bears
UID:777093
DTSTAMP:20260421T192010Z
END:VEVENT
END:VCALENDAR
