BEGIN:VCALENDAR
BEGIN:VEVENT
DESCRIPTION:\nMore Information: https://prod3.agileticketing.net/websales/pages/TicketSearchCriteria.aspx?evtInfo=851085~5d8d9dba-c87e-4c90-a955-489a474bdb56&\n\nIn his chilling, oblique study of evil, acclaimed director Jonathan Glazer situates the viewer at the center of frighteningly familiar banality.
DTSTART:20240214T020000Z
DTEND:20240214T034500Z
LOCATION:O Cinema South Beach, 1130 Washington Ave, Miami Beach, FL, 33139
SUMMARY:The Zone of Interest
UID:851085
DTSTAMP:20260423T220026Z
END:VEVENT
END:VCALENDAR
