BEGIN:VCALENDAR
BEGIN:VEVENT
DESCRIPTION:\nMore Information: https://prod3.agileticketing.net/websales/pages/TicketSearchCriteria.aspx?evtInfo=319889~ebb48706-c1f0-47bb-b36e-9ac9f24dc60e&\n\nHope never dies; neither does love.
DTSTART:20170923T230000Z
DTEND:20170924T003300Z
LOCATION:Coral Gables Art Cinema, 260 Aragon Avenue, Coral Gables, FL, 33134
SUMMARY:Last Days in Havana
UID:319889
DTSTAMP:20260424T100850Z
END:VEVENT
END:VCALENDAR
