BEGIN:VCALENDAR
BEGIN:VEVENT
DESCRIPTION:\nMore Information: https://prod3.agileticketing.net/websales/pages/TicketSearchCriteria.aspx?evtInfo=825073~ebb48706-c1f0-47bb-b36e-9ac9f24dc60e&\n\nWhen Stephané reconnects with her estranged billionaire father, she struggles to find her place in a world of luxury, bitter jealousies, and dark family secrets. But Stephané also has her own secret to hide.
DTSTART:20230924T193000Z
DTEND:20230924T213500Z
LOCATION:Coral Gables Art Cinema, 260 Aragon Avenue, Coral Gables, FL, 33134
SUMMARY:The Origin of Evil
UID:825073
DTSTAMP:20260421T175810Z
END:VEVENT
END:VCALENDAR
