BEGIN:VCALENDAR
BEGIN:VEVENT
DESCRIPTION:\nMore Information: https://prod3.agileticketing.net/websales/pages/TicketSearchCriteria.aspx?evtInfo=839219~ebb48706-c1f0-47bb-b36e-9ac9f24dc60e&\n\nIn this heartwarming tale from acclaimed director Alexander Payne, a grumpy instructor at a New England prep school is forced to stay on campus during Christmas break to supervise a group of students with nowhere to go.
DTSTART:20231202T000000Z
DTEND:20231202T021300Z
LOCATION:Coral Gables Art Cinema, 260 Aragon Avenue, Coral Gables, FL, 33134
SUMMARY:The Holdovers
UID:839219
DTSTAMP:20260419T145532Z
END:VEVENT
END:VCALENDAR
