BEGIN:VCALENDAR
BEGIN:VEVENT
DESCRIPTION:\nMore Information: https://prod3.agileticketing.net/websales/pages/TicketSearchCriteria.aspx?evtInfo=1007415~ebc57880-4795-4c30-b207-3224a2ec18a2&\n\n
DTSTART:20260829T220000Z
DTEND:20260830T000000Z
LOCATION:Houston Arboretum &amp; Nature Center, 4501, Houston, TX, 77024
SUMMARY:Drink &amp; Draw: Birds
UID:1007415
DTSTAMP:20260423T110457Z
END:VEVENT
END:VCALENDAR
