BEGIN:VCALENDAR
BEGIN:VEVENT
DESCRIPTION:\nMore Information: https://prod3.agileticketing.net/websales/pages/TicketSearchCriteria.aspx?evtInfo=1007459~ebc57880-4795-4c30-b207-3224a2ec18a2&\n\n
DTSTART:20260618T233000Z
DTEND:20260619T013000Z
LOCATION:Houston Arboretum &amp; Nature Center, 4501, Houston, TX, 77024
SUMMARY:Summer Camp All Grown Up: Micro World
UID:1007459
DTSTAMP:20260421T171648Z
END:VEVENT
END:VCALENDAR
