BEGIN:VCALENDAR
BEGIN:VEVENT
DESCRIPTION:\nMore Information: https://prod3.agileticketing.net/websales/pages/TicketSearchCriteria.aspx?evtInfo=1007485~ebc57880-4795-4c30-b207-3224a2ec18a2&\n\n
DTSTART:20260716T233000Z
DTEND:20260717T013000Z
LOCATION:Houston Arboretum &amp; Nature Center, 4501, Houston, TX, 77024
SUMMARY:Summer Camp All Grown Up: CSI Nature
UID:1007485
DTSTAMP:20260421T172248Z
END:VEVENT
END:VCALENDAR
