BEGIN:VCALENDAR
BEGIN:VEVENT
DESCRIPTION:\nMore Information: https://prod3.agileticketing.net/websales/pages/TicketSearchCriteria.aspx?evtInfo=1007573~ebc57880-4795-4c30-b207-3224a2ec18a2&\n\n
DTSTART:20260718T233000Z
DTEND:20260719T013000Z
LOCATION:Houston Arboretum &amp; Nature Center, 4501, Houston, TX, 77024
SUMMARY:Opossums &amp; Popsicles
UID:1007573
DTSTAMP:20260425T070509Z
END:VEVENT
END:VCALENDAR
