BEGIN:VCALENDAR
BEGIN:VEVENT
DESCRIPTION:\nMore Information: https://prod3.agileticketing.net/websales/pages/TicketSearchCriteria.aspx?evtInfo=961199~ebc57880-4795-4c30-b207-3224a2ec18a2&\n\n4 Year Old Half Day from 9:00 am to 12:00 pm. All Other Ages: Full Day from 9:00 am to 3:00 pm.
DTSTART:20251229T150000Z
DTEND:20251231T210000Z
LOCATION:Houston Arboretum &amp; Nature Center, 4501, Houston, TX, 77024
SUMMARY:Winter Camp: Cool Critters
UID:961199
DTSTAMP:20260423T121959Z
END:VEVENT
END:VCALENDAR
