BEGIN:VCALENDAR
BEGIN:VEVENT
DESCRIPTION:\nMore Information: https://prod3.agileticketing.net/websales/pages/TicketSearchCriteria.aspx?evtInfo=51018~ff98647d-f08e-43b4-a3a4-13dd7c4bb2f2&\n\nWhether pursuing success in media or simply desiring peace at home, the subjects of these films are faced with fulfilling an image of who they should be and how they should act. Featuring At Your Convenience, starring Randall Park.
DTSTART:20130318T000000Z
DTEND:20130318T012900Z
LOCATION:Kabuki AMC, 1881 Post Street, SAN FRANCISCO, CA, 94115
SUMMARY:WYSIWYG - SHORTS
UID:51018
DTSTAMP:20260419T160012Z
END:VEVENT
END:VCALENDAR
