BEGIN:VCALENDAR
BEGIN:VEVENT
DESCRIPTION:\nMore Information: https://prod3.agileticketing.net/websales/pages/TicketSearchCriteria.aspx?evtInfo=51030~ff98647d-f08e-43b4-a3a4-13dd7c4bb2f2&\n\nMixing and matching, amending and melding: the process of developing even the simplest foods involves patience as much as inspiration. Join us for an intimate conversation and tasting demo with two local Asian American culinary artisans. They will offer a peek into the complex process of creating new specialties, from rich truffles to spicy ketchup, and will share how they balance personal flair, concise production, market trends and—in the end—the shifting moods of Mother Nature. A hands-on, guided tasting will reveal tips on mixing flavors, and then audience mem- bers will have a chance to “freestyle” their own signature combinations.
DTSTART:20130323T210000Z
DTEND:20130323T223000Z
LOCATION:Superfrog Gallery, 1746 Post Street, SAN FRANCISCO, CA, 94115
SUMMARY:COOK SALON: (BITTER)SWEET
UID:51030
DTSTAMP:20260422T034039Z
END:VEVENT
END:VCALENDAR
